BEGIN:VCALENDAR
VERSION:2.0
PRODID:-//wp-events-plugin.com//7.2.3.1//EN
TZID:America/Toronto
X-WR-TIMEZONE:America/Toronto
BEGIN:VEVENT
UID:646@terragreenhouses.com
DTSTART;TZID=America/Toronto:20260509T103000
DTEND;TZID=America/Toronto:20260509T153000
DTSTAMP:20260421T155008Z
URL:https://terragreenhouses.com/event/11-colour-matching-with-melanie-fro
 m-da-lish-cosmetics-at-kind-matter-oakville/
SUMMARY:1:1 Colour Matching with Melanie from Da Lish Cosmetics at Kind Mat
 ter Oakville
DESCRIPTION:Come out to Kind Matter Oakville and book a 1:1 makeup colour m
 atching consultation with Melanie from Da Lish Cosmetics.\n\nCome out and 
 find your perfect match from her uncomplicated selection of concealers\, l
 ip gloss\, and mascaras.\n\nWith the purchase of a ticket each attendee wi
 ll receive 1 FREE Da Lish Cosmetic product of your choice!\n\n&nbsp\;\n\nE
 vent Details:\n\nMay 9th\, 2026 at Kind Matter Oakville\n\n$30 per ticket\
 n\n30-minute time slots starting at 10:30am
ATTACH;FMTTYPE=image/jpeg:https://terragreenhouses.com/wp-content/uploads/
 2026/04/Da-Lish-Colour-Matching-Consultation.png
CATEGORIES:Kind Matter Oakville
LOCATION:Kind Matter Oakville (stand alone store)\, 282b Kerr St\, Oakville
 \, Ontario\, L6K 3B3\, Canada
GEO:43.442843;-79.680277
X-APPLE-STRUCTURED-LOCATION;VALUE=URI;X-ADDRESS=282b Kerr St\, Oakville\, O
 ntario\, L6K 3B3\, Canada;X-APPLE-RADIUS=100;X-TITLE=Kind Matter Oakville 
 (stand alone store):geo:43.442843,-79.680277
END:VEVENT
BEGIN:VTIMEZONE
TZID:America/Toronto
X-LIC-LOCATION:America/Toronto
BEGIN:DAYLIGHT
DTSTART:20260308T030000
TZOFFSETFROM:-0500
TZOFFSETTO:-0400
TZNAME:EDT
END:DAYLIGHT
END:VTIMEZONE
END:VCALENDAR