BEGIN:VCALENDAR
VERSION:2.0
PRODID:-//wp-events-plugin.com//7.2.3.1//EN
TZID:America/Toronto
X-WR-TIMEZONE:America/Toronto
BEGIN:VEVENT
UID:268@terragreenhouses.com
DTSTART;TZID=America/Toronto;VALUE=DATE:20250603
DTEND;TZID=America/Toronto;VALUE=DATE:20250702
DTSTAMP:20250624T171330Z
URL:https://terragreenhouses.com/event/2026-winter-market-vendor-applicati
 on-now-open/
SUMMARY:2026 Winter Market - Vendor Application deadline JULY 1st.
DESCRIPTION:DEADLINE TO APPLY FOR THE 2026 Winter Market is July 1st\, 2025
 \nIt's never too early to start planning for more Market Excitement at TER
 RA.\nHappening for 11 Saturdays from Jan 10 - Mar 21\, 2026\n\nThe vendor 
 application for the 2026 TERRA Winter Market is now OPEN.\n\nOnly approved
  vendors will be contacted to make payment.\n\nThank you so much for your 
 interest in our events - to keep up to date on all things happening around
  TERRA please subscribe to our e-newsletter and follow us on social @terra
 athome.\n\nclick here to go to the application page:  2026 TERRA Winter M
 arket Application Form - TERRA Greenhouses
ATTACH;FMTTYPE=image/jpeg:https://terragreenhouses.com/wp-content/uploads/
 2025/03/2026-Apply-Now-IG-SQ.png
CATEGORIES:Hamilton,Waterdown
END:VEVENT
BEGIN:VTIMEZONE
TZID:America/Toronto
X-LIC-LOCATION:America/Toronto
BEGIN:DAYLIGHT
DTSTART:20250309T030000
TZOFFSETFROM:-0500
TZOFFSETTO:-0400
TZNAME:EDT
END:DAYLIGHT
END:VTIMEZONE
END:VCALENDAR