BEGIN:VCALENDAR
VERSION:2.0
PRODID:-//wp-events-plugin.com//7.2.3.1//EN
TZID:America/Toronto
X-WR-TIMEZONE:America/Toronto
BEGIN:VEVENT
UID:635@terragreenhouses.com
DTSTART;TZID=America/Toronto:20260426T110000
DTEND;TZID=America/Toronto:20260426T130000
DTSTAMP:20260421T140206Z
URL:https://terragreenhouses.com/event/cedar-planter-workshop-at-terra-wat
 erdown/
SUMMARY:SOLD OUT Cedar Planter Workshop at TERRA Waterdown
DESCRIPTION:Join us for a hands-on woodworking workshop where you’ll buil
 d your own beautiful cedar planter box from start to finish. This experien
 ce is all about learning practical skills\, working with tools\, and creat
 ing a high-quality piece you can proudly take home.\n\nAll materials are p
 rovided\, along with step-by-step instruction in a relaxed\, supportive en
 vironment—perfect for beginners and experienced DIYers alike.\n\nWhat to
  expect:\n\n 	Guided instruction on measuring\, assembling\, and finishing
  your planter box\n 	Use of tools in a safe\, encouraging setting\n 	A com
 pleted western red cedar planter box to take home and personalize\n\n&nbsp
 \;\n\nPlease note: This is a construction-focused workshop. Plants and soi
 l are not included.\n\nCome solo or with friends and enjoy a creative\, em
 powering experience while connecting with other women.\n\nReserve your spo
 t today—spaces are limited!\n\n*Workshops are non-refundable\n\n&nbsp\;\
 n\nSIGN UP HERE
ATTACH;FMTTYPE=image/jpeg:https://terragreenhouses.com/wp-content/uploads/
 2026/03/Screenshot-2026-03-31-093532.png
CATEGORIES:Waterdown
LOCATION:Waterdown\, 8 Concession 5 Rd E\, Waterdown\, Ontario\, L8B 1K5\, 
 Canada
X-APPLE-STRUCTURED-LOCATION;VALUE=URI;X-ADDRESS=8 Concession 5 Rd E\, Water
 down\, Ontario\, L8B 1K5\, Canada;X-APPLE-RADIUS=100;X-TITLE=Waterdown:geo
 :0,0
END:VEVENT
BEGIN:VTIMEZONE
TZID:America/Toronto
X-LIC-LOCATION:America/Toronto
BEGIN:DAYLIGHT
DTSTART:20260308T030000
TZOFFSETFROM:-0500
TZOFFSETTO:-0400
TZNAME:EDT
END:DAYLIGHT
END:VTIMEZONE
END:VCALENDAR