BEGIN:VCALENDAR
VERSION:2.0
PRODID:-//wp-events-plugin.com//7.2.3.1//EN
TZID:America/Toronto
X-WR-TIMEZONE:America/Toronto
BEGIN:VEVENT
UID:600@terragreenhouses.com
DTSTART;TZID=America/Toronto:20260718T130000
DTEND;TZID=America/Toronto:20260718T163000
DTSTAMP:20260224T135320Z
URL:https://terragreenhouses.com/event/decoupage-workshop-at-kind-matter-h
 eartland/
SUMMARY:Decoupage Workshop at Kind Matter Heartland
DESCRIPTION:Slow down\, get creative\, and make something beautiful!\nLocat
 ed inside the Heartland Town Centre in Mississauga\, "The Kind Matter Com
 pany" is a thoughtfully curated extension of TERRA Greenhouses\, bringing 
 the same love of nature\, sustainability\, and intentional living into a w
 arm\, welcoming boutique space.\nA place where sustainability meets style 
 and community connection is celebrated\, it’s the perfect setting to slo
 w down and create.\n\n\nAfter sold-out workshops at TERRA\, this wellness
 -focused decoupage experience is now coming to "The Kind Matter Company".
  If you missed the TERRA workshops\, here’s your chance!\n\nDecoupage i
 s the art of decorating with beautiful napkin designs to transform everyda
 y pieces into something special.\n\nDuring this guided workshop\, you’ll
  create a charming terra cotta pot and coordinating garden shovel\, perfec
 t for adding a personal touch to your home or gifting to someone special.\
 n\n\nWhat’s included:\n\n 	Guided\, beginner-friendly decoupage instruct
 ion\n 	Your choice of beautiful seasonal napkin designs for your project 
 \n 	One terra cotta pot and one garden shovel *Shovel is for decorative
  purposes only \n 	All supplies\n 	Finished pieces to take home \n\n\n\n
 *Spaces are limited to keep the experience relaxed and supportive.\n\nWhen
  : Sat\, July 18\, 2026\nTime: 1:00-4:30\nPlace: The Kind Matter Company\
 nAddress: 5985 Rodeo Dr Unit #4a\, Mississauga\, ON\n\n
ATTACH;FMTTYPE=image/jpeg:https://terragreenhouses.com/wp-content/uploads/
 2026/02/decoupage-at-heartland-july-18th.png
CATEGORIES:Mississauga HeartLand
LOCATION:Kind Matter Heartland Town Centre\, 5985 Rodeo Dr #4\,\, Mississau
 ga\, L5R 3X8\, Canada
GEO:43.614842;-79.690636
X-APPLE-STRUCTURED-LOCATION;VALUE=URI;X-ADDRESS=5985 Rodeo Dr #4\,\, Missis
 sauga\, L5R 3X8\, Canada;X-APPLE-RADIUS=100;X-TITLE=Kind Matter Heartland 
 Town Centre:geo:43.614842,-79.690636
END:VEVENT
BEGIN:VTIMEZONE
TZID:America/Toronto
X-LIC-LOCATION:America/Toronto
BEGIN:DAYLIGHT
DTSTART:20260308T030000
TZOFFSETFROM:-0500
TZOFFSETTO:-0400
TZNAME:EDT
END:DAYLIGHT
END:VTIMEZONE
END:VCALENDAR