BEGIN:VCALENDAR
VERSION:2.0
PRODID:-//wp-events-plugin.com//7.2.3.1//EN
TZID:America/Toronto
X-WR-TIMEZONE:America/Toronto
BEGIN:VEVENT
UID:598@terragreenhouses.com
DTSTART;TZID=America/Toronto:20260425T130000
DTEND;TZID=America/Toronto:20260425T150000
DTSTAMP:20260319T141024Z
URL:https://terragreenhouses.com/event/eco-printing-workshop-at-terra-wate
 rdown/
SUMMARY:SOLD OUT Eco Printing Workshop at TERRA Waterdown
DESCRIPTION:\n\n\n\nHosted by Carly from Lillie Haus Textiles for a eco pri
 nting workshop at TERRA Waterdown.\nCreate two silk scarves with the proce
 ss of eco printing.\nDate: April 25th\, 2026\nTime: 1:00pm-3:00pm\n$75 per
  ticket\nSIGN UP HERE\n\n\n\n\n&nbsp\;\n\n\n\n
ATTACH;FMTTYPE=image/jpeg:https://terragreenhouses.com/wp-content/uploads/
 2026/02/scarf-workshop-at-waterdown.png
CATEGORIES:Waterdown
LOCATION:Waterdown\, 8 Concession 5 Rd E\, Waterdown\, Ontario\, L8B 1K5\, 
 Canada
X-APPLE-STRUCTURED-LOCATION;VALUE=URI;X-ADDRESS=8 Concession 5 Rd E\, Water
 down\, Ontario\, L8B 1K5\, Canada;X-APPLE-RADIUS=100;X-TITLE=Waterdown:geo
 :0,0
END:VEVENT
BEGIN:VTIMEZONE
TZID:America/Toronto
X-LIC-LOCATION:America/Toronto
BEGIN:DAYLIGHT
DTSTART:20260308T030000
TZOFFSETFROM:-0500
TZOFFSETTO:-0400
TZNAME:EDT
END:DAYLIGHT
END:VTIMEZONE
END:VCALENDAR