BEGIN:VCALENDAR
VERSION:2.0
PRODID:-//wp-events-plugin.com//7.2.3.1//EN
TZID:America/Toronto
X-WR-TIMEZONE:America/Toronto
BEGIN:VEVENT
UID:550@terragreenhouses.com
DTSTART;TZID=America/Toronto:20260425T120000
DTEND;TZID=America/Toronto:20260425T140000
DTSTAMP:20251219T151443Z
URL:https://terragreenhouses.com/event/hereward-farms-pop-up-at-kind-matte
 r-milton-2/
SUMMARY:Hereward Farms Pop Up at Kind Matter Heartland
DESCRIPTION:Meet Julie!\nLearn how Hereward Farms uses the purest ingredien
 ts found in their farm-to-skin products.\nFall in love with Hereward Farms
  Lavender products that contains no parabens\, sodium lauryl sulphates\, p
 hthalates\, artificial fragrances/colours or silicon/petroleum bases.
ATTACH;FMTTYPE=image/jpeg:https://terragreenhouses.com/wp-content/uploads/
 2025/12/Hereward-Farms-POP-UP.jpg
CATEGORIES:Mississauga HeartLand
LOCATION:Kind Matter Heartland Town Centre\, 5985 Rodeo Dr #4\,\, Mississau
 ga\, L5R 3X8\, Canada
GEO:43.614842;-79.690636
X-APPLE-STRUCTURED-LOCATION;VALUE=URI;X-ADDRESS=5985 Rodeo Dr #4\,\, Missis
 sauga\, L5R 3X8\, Canada;X-APPLE-RADIUS=100;X-TITLE=Kind Matter Heartland 
 Town Centre:geo:43.614842,-79.690636
END:VEVENT
BEGIN:VTIMEZONE
TZID:America/Toronto
X-LIC-LOCATION:America/Toronto
BEGIN:DAYLIGHT
DTSTART:20260308T030000
TZOFFSETFROM:-0500
TZOFFSETTO:-0400
TZNAME:EDT
END:DAYLIGHT
END:VTIMEZONE
END:VCALENDAR