BEGIN:VCALENDAR
VERSION:2.0
PRODID:-//wp-events-plugin.com//7.2.3.1//EN
TZID:America/Toronto
X-WR-TIMEZONE:America/Toronto
BEGIN:VEVENT
UID:547@terragreenhouses.com
DTSTART;TZID=America/Toronto:20260613T110000
DTEND;TZID=America/Toronto:20260613T130000
DTSTAMP:20260323T180243Z
URL:https://terragreenhouses.com/event/hereward-farms-pop-up-at-kind-matte
 r-oakville/
SUMMARY:Hereward Farms Pop Up at Kind Matter Oakville
DESCRIPTION:Meet Julie!\nLearn how Hereward Farms uses the purest ingredien
 ts found in their farm-to-skin products.\nFall in love with Hereward Farms
  Lavender products that contains no parabens\, sodium lauryl sulphates\, p
 hthalates\, artificial fragrances/colours or silicon/petroleum bases.
ATTACH;FMTTYPE=image/jpeg:https://terragreenhouses.com/wp-content/uploads/
 2025/12/Hereward-Farms-POP-UP.jpg
CATEGORIES:Kind Matter Oakville
LOCATION:Kind Matter Oakville (stand alone store)\, 282b Kerr St\, Oakville
 \, Ontario\, L6K 3B3\, Canada
GEO:43.442843;-79.680277
X-APPLE-STRUCTURED-LOCATION;VALUE=URI;X-ADDRESS=282b Kerr St\, Oakville\, O
 ntario\, L6K 3B3\, Canada;X-APPLE-RADIUS=100;X-TITLE=Kind Matter Oakville 
 (stand alone store):geo:43.442843,-79.680277
END:VEVENT
BEGIN:VTIMEZONE
TZID:America/Toronto
X-LIC-LOCATION:America/Toronto
BEGIN:DAYLIGHT
DTSTART:20260308T030000
TZOFFSETFROM:-0500
TZOFFSETTO:-0400
TZNAME:EDT
END:DAYLIGHT
END:VTIMEZONE
END:VCALENDAR