BEGIN:VCALENDAR
VERSION:2.0
PRODID:-//wp-events-plugin.com//7.2.3.1//EN
TZID:America/Toronto
X-WR-TIMEZONE:America/Toronto
BEGIN:VEVENT
UID:159@terragreenhouses.com
DTSTART;TZID=America/Toronto:20241026T120000
DTEND;TZID=America/Toronto:20241026T150000
DTSTAMP:20241010T205256Z
URL:https://terragreenhouses.com/event/learn-to-burn-with-myra-terra-burli
 ngon/
SUMMARY:Learn to Burn with Myra @ TERRA - **SOLD OUT**
DESCRIPTION:**SOLD OUT**\nHappening Saturday October 26th\, 2024\, at our T
 ERRA Burlington location.\nLearn the basics of Wood burning! Join Myra\, a
 s they teach you simple &amp\; fun techniques to create custom wood burned
  art. Projects include coasters\, magnets\, and medium signs.\nChoose from
  a variety of templates and get one-on-one guidance throughout the worksho
 p. No previous experience is necessary!\nWHAT TO EXPECT:\n\n\n 	\nHow to u
 se to use your pen to create simple\, elegant designs.\n\n 	\nHow to creat
 e a variety of effects\, including silhouette\, outlining\, and shading.\n
 \n 	\nThe basics of lettering on wood—Myra will show you their favorite 
 easy &amp\; versatile fonts\n\n 	\nHow to transfer designs from paper to w
 ood\n\n\nFor more info &amp\; to purchase tickets for the October 26th wor
 kshop click HERE\nAll 'Learn to Burn' workshop participants will also rece
 ive a TERRA coupon to use in our TERRA Milton location after the event. \
 n\n&nbsp\;
CATEGORIES:Burlington
END:VEVENT
BEGIN:VTIMEZONE
TZID:America/Toronto
X-LIC-LOCATION:America/Toronto
BEGIN:DAYLIGHT
DTSTART:20240310T030000
TZOFFSETFROM:-0500
TZOFFSETTO:-0400
TZNAME:EDT
END:DAYLIGHT
END:VTIMEZONE
END:VCALENDAR