BEGIN:VCALENDAR
VERSION:2.0
PRODID:-//wp-events-plugin.com//7.2.3.1//EN
TZID:America/Toronto
X-WR-TIMEZONE:America/Toronto
BEGIN:VEVENT
UID:627@terragreenhouses.com
DTSTART;TZID=America/Toronto:20260628T143000
DTEND;TZID=America/Toronto:20260628T163000
DTSTAMP:20260323T124634Z
URL:https://terragreenhouses.com/event/line-dancing-lessons-w-urban-cowboy
 -line-dancing-at-terra-milton-2/
SUMMARY:Line Dancing Lessons w/ Urban Cowboy Line Dancing at TERRA Milton
DESCRIPTION:Learn how to line dance with The Urban Cowboy Line Dancing comp
 any!\n\nTry something new\, no experience needed.\n\nDrop in and pay at th
 e entrance for only $10.\n\nBring your cowboy boots and dance the afternoo
 n away.
ATTACH;FMTTYPE=image/jpeg:https://terragreenhouses.com/wp-content/uploads/
 2026/03/LINE-DANCE-LESSONS_20260322_164536_0000-updated.png
CATEGORIES:Milton
LOCATION:Milton\, 12800 Britannia Rd.\, Milton\, Ontario\, L9E 0V3\, Canada
X-APPLE-STRUCTURED-LOCATION;VALUE=URI;X-ADDRESS=12800 Britannia Rd.\, Milto
 n\, Ontario\, L9E 0V3\, Canada;X-APPLE-RADIUS=100;X-TITLE=Milton:geo:0,0
END:VEVENT
BEGIN:VTIMEZONE
TZID:America/Toronto
X-LIC-LOCATION:America/Toronto
BEGIN:DAYLIGHT
DTSTART:20260308T030000
TZOFFSETFROM:-0500
TZOFFSETTO:-0400
TZNAME:EDT
END:DAYLIGHT
END:VTIMEZONE
END:VCALENDAR