BEGIN:VCALENDAR
VERSION:2.0
PRODID:-//wp-events-plugin.com//7.2.3.1//EN
TZID:America/Toronto
X-WR-TIMEZONE:America/Toronto
BEGIN:VEVENT
UID:565@terragreenhouses.com
DTSTART;TZID=America/Toronto:20260619T110000
DTEND;TZID=America/Toronto:20260619T140000
DTSTAMP:20260417T160925Z
URL:https://terragreenhouses.com/event/muskoka-tallow-pop-up-at-kind-matte
 r-heartland/
SUMMARY:Muskoka Tallow Pop Up at Kind Matter Heartland
DESCRIPTION:Meet Sophia\, from Muskoka Tallow!\nLearn firsthand how the bra
 nd embodies values of purity\, sustainability\, and simplicity.\nLearn how
  Muskoka Tallow is helping more families discover the benefits of tallow-b
 ased skincare.
ATTACH;FMTTYPE=image/jpeg:https://terragreenhouses.com/wp-content/uploads/
 2026/01/Muskoka-Tallow-POP-UP-2.png
CATEGORIES:Mississauga HeartLand
LOCATION:Kind Matter Heartland Town Centre\, 5985 Rodeo Dr #4\,\, Mississau
 ga\, L5R 3X8\, Canada
GEO:43.614842;-79.690636
X-APPLE-STRUCTURED-LOCATION;VALUE=URI;X-ADDRESS=5985 Rodeo Dr #4\,\, Missis
 sauga\, L5R 3X8\, Canada;X-APPLE-RADIUS=100;X-TITLE=Kind Matter Heartland 
 Town Centre:geo:43.614842,-79.690636
END:VEVENT
BEGIN:VTIMEZONE
TZID:America/Toronto
X-LIC-LOCATION:America/Toronto
BEGIN:DAYLIGHT
DTSTART:20260308T030000
TZOFFSETFROM:-0500
TZOFFSETTO:-0400
TZNAME:EDT
END:DAYLIGHT
END:VTIMEZONE
END:VCALENDAR