BEGIN:VCALENDAR
VERSION:2.0
PRODID:-//wp-events-plugin.com//7.2.3.1//EN
TZID:America/Toronto
X-WR-TIMEZONE:America/Toronto
BEGIN:VEVENT
UID:191@terragreenhouses.com
DTSTART;TZID=America/Toronto;VALUE=DATE:20241121
DTEND;TZID=America/Toronto;VALUE=DATE:20241125
DTSTAMP:20241115T172459Z
URL:https://terragreenhouses.com/event/santas-outdoor-market-terra-burling
 ton/
SUMMARY:Santa's Outdoor Market - TERRA Burlington
DESCRIPTION:🎄🎄Happening at TERRA Burlington🎄🎄\nExperience the m
 agic of the season at our enchanting outdoor Christmas market\, beautifull
 y lit under a canopy of twinkling lights! Stroll through a vibrant selecti
 on of local vendors offering delicious food\, from festive snacks to sweet
  treats. Discover exclusive Christmas decor and unique gifts that will add
  a special touch to your holiday celebrations. \n\nOur TERRA Magic Makers 
 will be building beautiful outdoor arrangements\, decorating the store to 
 inspire &amp\; offering exclusive decor items just for the Burlington loca
 tion. Join us for a delightful celebration of all things Christmas!\n\n
 ❄Weekend dates and times:\nNovember 21st - 24th \nNovember 28th - Decem
 ber 1st\nDecember 5th - December 8th\n\nThursday &amp\; Friday 4p.m. - 8p.
 m.\nSat &amp\; Sunday 12 - 6p.m.\n\n🎅🏽 Visit with Santa - Thursday N
 ov 21 - 6:30p - 8p.m.\n\n🎅🏽 Visit with Santa - Saturday Nov 23 - 1 -
  3p.m.\n\n❄Vendors for all 3 Weekends - The Lemon Bar\, Challe Family Fa
 rm\, Backed by Bees\, Garlic King\, Dog Got It &amp\; The Strudel Lady.\n
 ❄Special guest vendors - Sweet Pom Poms\, The Farmer Frank\, Weetas Empa
 nadas &amp\; A Chocolate Lab.\n\nSpecial guest vendors will be appearing 
 on different weekends\, check back &amp\; follow us on social to discover 
 more!\nTERRA Burlington special store hours Saturday - Wednesday 9a.m. to 
 6 p.m.\, Thursday and Friday 9a.m. to 8p.m. \n
CATEGORIES:Burlington
LOCATION:Burlington\, 2273 #5 Hwy\, Burlington\, Ontario\, L7R 3X4\, Canada
X-APPLE-STRUCTURED-LOCATION;VALUE=URI;X-ADDRESS=2273 #5 Hwy\, Burlington\, 
 Ontario\, L7R 3X4\, Canada;X-APPLE-RADIUS=100;X-TITLE=Burlington:geo:0,0
END:VEVENT
BEGIN:VTIMEZONE
TZID:America/Toronto
X-LIC-LOCATION:America/Toronto
BEGIN:STANDARD
DTSTART:20241103T010000
TZOFFSETFROM:-0400
TZOFFSETTO:-0500
TZNAME:EST
END:STANDARD
END:VTIMEZONE
END:VCALENDAR