BEGIN:VCALENDAR
VERSION:2.0
PRODID:-//wp-events-plugin.com//7.2.3.1//EN
TZID:America/Toronto
X-WR-TIMEZONE:America/Toronto
BEGIN:VEVENT
UID:601@terragreenhouses.com
DTSTART;TZID=America/Toronto:20260426T113000
DTEND;TZID=America/Toronto:20260426T124500
DTSTAMP:20260318T140924Z
URL:https://terragreenhouses.com/event/sound-bath-class-at-terra-milton-2/
SUMMARY:SOLD OUT Sound Bath Class at TERRA Milton
DESCRIPTION:\n\n\nJoin Lisa at Terra Greenhouses in Milton for a rejuvenati
 ng sound bath. Immerse yourself in nature and find deep relaxation! ✨\n\
 n\n\n\n\n\n🌿 Join Lisa Boon from MISSISSAUGA SOUND THERAPY\, certified 
 sound therapy and sylvotherapy (forest therapy) practitioner\, for a rejuv
 enating sound bath at the beautiful Terra Greenhouses in Milton!\n\nImmers
 e yourself in a tranquil environment surrounded by nature\, where soothing
  sounds will lead you into deep relaxation. Experience the incredible bene
 fits of phytoncides from the lush plants\, which are known to enhance mood
 \, reduce stress\, and boost your immune system. Paired with the calming s
 ound bath\, this journey will help soothe your nervous system\, promoting 
 cellular repair and overall wellness.\n\nWhat to Bring:\n\n- A yoga mat an
 d blanket for comfort\n\n- A water bottle to stay hydrated\n\n- A portable
  chair if you would prefer to sit\n\n*Any other items to make you feel com
 fortable\n\nDate: Sunday\, April 26\n\nTime: 11:30 am - 12:45 pm\n\nCost: 
 $35.00 per person\n\nLocation: Terra Greenhouses Milton\, Ontario\n\n✨ L
 imited Spaces\, reserve your spot today and reconnect with nature!\n\nGET 
 YOUR TICKETS HERE\n\n\n
ATTACH;FMTTYPE=image/jpeg:https://terragreenhouses.com/wp-content/uploads/
 2026/03/sound-bath-therapy-april-27th.png
CATEGORIES:Milton
LOCATION:Milton\, 12800 Britannia Rd.\, Milton\, Ontario\, L9E 0V3\, Canada
X-APPLE-STRUCTURED-LOCATION;VALUE=URI;X-ADDRESS=12800 Britannia Rd.\, Milto
 n\, Ontario\, L9E 0V3\, Canada;X-APPLE-RADIUS=100;X-TITLE=Milton:geo:0,0
END:VEVENT
BEGIN:VTIMEZONE
TZID:America/Toronto
X-LIC-LOCATION:America/Toronto
BEGIN:DAYLIGHT
DTSTART:20260308T030000
TZOFFSETFROM:-0500
TZOFFSETTO:-0400
TZNAME:EDT
END:DAYLIGHT
END:VTIMEZONE
END:VCALENDAR