BEGIN:VCALENDAR
VERSION:2.0
PRODID:-//wp-events-plugin.com//7.2.3.1//EN
TZID:America/Toronto
X-WR-TIMEZONE:America/Toronto
BEGIN:VEVENT
UID:647@terragreenhouses.com
DTSTART;TZID=America/Toronto:20260613T130000
DTEND;TZID=America/Toronto:20260613T140000
DTSTAMP:20260421T160842Z
URL:https://terragreenhouses.com/event/sushi-making-class-at-kind-matter-h
 eartland-2/
SUMMARY:Sushi Making Class at Kind Matter Heartland
DESCRIPTION:\n\nWe will be making 3 rolls - California rolls\, Spicy Salmon
  roll\, tuna hand roll! All ingredients will be provided! Just come have f
 un\, meet some new people who loves sushi and enjoy a delicious meal! Each
  ticket comes with one Kanel Poke Spice!\n\nSIGN UP HERE\n\n
ATTACH;FMTTYPE=image/jpeg:https://terragreenhouses.com/wp-content/uploads/
 2026/04/heartland-sushi-making-class-1-scaled.jpg
CATEGORIES:Mississauga HeartLand
LOCATION:Kind Matter Heartland Town Centre\, 5985 Rodeo Dr #4\,\, Mississau
 ga\, L5R 3X8\, Canada
GEO:43.614842;-79.690636
X-APPLE-STRUCTURED-LOCATION;VALUE=URI;X-ADDRESS=5985 Rodeo Dr #4\,\, Missis
 sauga\, L5R 3X8\, Canada;X-APPLE-RADIUS=100;X-TITLE=Kind Matter Heartland 
 Town Centre:geo:43.614842,-79.690636
END:VEVENT
BEGIN:VTIMEZONE
TZID:America/Toronto
X-LIC-LOCATION:America/Toronto
BEGIN:DAYLIGHT
DTSTART:20260308T030000
TZOFFSETFROM:-0500
TZOFFSETTO:-0400
TZNAME:EDT
END:DAYLIGHT
END:VTIMEZONE
END:VCALENDAR