BEGIN:VCALENDAR
VERSION:2.0
PRODID:-//wp-events-plugin.com//7.2.3.1//EN
TZID:America/Toronto
X-WR-TIMEZONE:America/Toronto
BEGIN:VEVENT
UID:641@terragreenhouses.com
DTSTART;TZID=America/Toronto:20260502T110000
DTEND;TZID=America/Toronto:20260502T140000
DTSTAMP:20260417T145040Z
URL:https://terragreenhouses.com/event/the-cure-skincare-pop-up-at-terra-w
 aterdown/
SUMMARY:The Cure Skincare Pop Up at TERRA Waterdown
DESCRIPTION:\n\nMeet Nitasha\, the founder of The Cure Skincare!\n\n&nbsp\;
 \n\n\nLearn how The Cure skincare is designed to protect and nurture your 
 skin. \n\nThe cure formulations deliver gentle yet effective results for a
 ll skin types\, celebrating the beauty of bare skin.\n&nbsp\;
ATTACH;FMTTYPE=image/jpeg:https://terragreenhouses.com/wp-content/uploads/
 2025/12/The-Cure-POP-UP.png
CATEGORIES:Waterdown
LOCATION:Waterdown\, 8 Concession 5 Rd E\, Waterdown\, Ontario\, L8B 1K5\, 
 Canada
X-APPLE-STRUCTURED-LOCATION;VALUE=URI;X-ADDRESS=8 Concession 5 Rd E\, Water
 down\, Ontario\, L8B 1K5\, Canada;X-APPLE-RADIUS=100;X-TITLE=Waterdown:geo
 :0,0
END:VEVENT
BEGIN:VTIMEZONE
TZID:America/Toronto
X-LIC-LOCATION:America/Toronto
BEGIN:DAYLIGHT
DTSTART:20260308T030000
TZOFFSETFROM:-0500
TZOFFSETTO:-0400
TZNAME:EDT
END:DAYLIGHT
END:VTIMEZONE
END:VCALENDAR