BEGIN:VCALENDAR
VERSION:2.0
PRODID:-//wp-events-plugin.com//7.2.3.1//EN
TZID:America/Toronto
X-WR-TIMEZONE:America/Toronto
BEGIN:VEVENT
UID:608@terragreenhouses.com
DTSTART;TZID=America/Toronto:20260606T110000
DTEND;TZID=America/Toronto:20260606T150000
DTSTAMP:20260311T165117Z
URL:https://terragreenhouses.com/event/wildwood-creek-wylder-organics-pop-
 up-at-terra-waterdown/
SUMMARY:Wildwood Creek & WYLDER Organics Pop Up at TERRA Waterdown
DESCRIPTION:Meet Aroha!\n\nWildwood Creek &amp\; WYLDER Organics are nature
 -driven\, sustainable Canadian brands that craft clean\, vegan\, and cruel
 ty-free products using wild-harvested botanicals. \n\nLearn about their ca
 ndles\, diffuser\, and skin care products.
ATTACH;FMTTYPE=image/jpeg:https://terragreenhouses.com/wp-content/uploads/
 2026/03/Wildwood-Wylder-aroha-POP-UP.png
CATEGORIES:Waterdown
LOCATION:Waterdown\, 8 Concession 5 Rd E\, Waterdown\, Ontario\, L8B 1K5\, 
 Canada
X-APPLE-STRUCTURED-LOCATION;VALUE=URI;X-ADDRESS=8 Concession 5 Rd E\, Water
 down\, Ontario\, L8B 1K5\, Canada;X-APPLE-RADIUS=100;X-TITLE=Waterdown:geo
 :0,0
END:VEVENT
BEGIN:VTIMEZONE
TZID:America/Toronto
X-LIC-LOCATION:America/Toronto
BEGIN:DAYLIGHT
DTSTART:20260308T030000
TZOFFSETFROM:-0500
TZOFFSETTO:-0400
TZNAME:EDT
END:DAYLIGHT
END:VTIMEZONE
END:VCALENDAR